BEGIN:VCALENDAR
VERSION:2.0
PRODID:-//New Brunswick College of Craft and Design - ECPv6.15.11//NONSGML v1.0//EN
CALSCALE:GREGORIAN
METHOD:PUBLISH
X-WR-CALNAME:New Brunswick College of Craft and Design
X-ORIGINAL-URL:https://nbccd.ca
X-WR-CALDESC:Events for New Brunswick College of Craft and Design
REFRESH-INTERVAL;VALUE=DURATION:PT1H
X-Robots-Tag:noindex
X-PUBLISHED-TTL:PT1H
BEGIN:VTIMEZONE
TZID:America/Halifax
BEGIN:DAYLIGHT
TZOFFSETFROM:-0400
TZOFFSETTO:-0300
TZNAME:ADT
DTSTART:20210314T060000
END:DAYLIGHT
BEGIN:STANDARD
TZOFFSETFROM:-0300
TZOFFSETTO:-0400
TZNAME:AST
DTSTART:20211107T050000
END:STANDARD
BEGIN:DAYLIGHT
TZOFFSETFROM:-0400
TZOFFSETTO:-0300
TZNAME:ADT
DTSTART:20220313T060000
END:DAYLIGHT
BEGIN:STANDARD
TZOFFSETFROM:-0300
TZOFFSETTO:-0400
TZNAME:AST
DTSTART:20221106T050000
END:STANDARD
BEGIN:DAYLIGHT
TZOFFSETFROM:-0400
TZOFFSETTO:-0300
TZNAME:ADT
DTSTART:20230312T060000
END:DAYLIGHT
BEGIN:STANDARD
TZOFFSETFROM:-0300
TZOFFSETTO:-0400
TZNAME:AST
DTSTART:20231105T050000
END:STANDARD
BEGIN:DAYLIGHT
TZOFFSETFROM:-0400
TZOFFSETTO:-0300
TZNAME:ADT
DTSTART:20240310T060000
END:DAYLIGHT
BEGIN:STANDARD
TZOFFSETFROM:-0300
TZOFFSETTO:-0400
TZNAME:AST
DTSTART:20241103T050000
END:STANDARD
BEGIN:DAYLIGHT
TZOFFSETFROM:-0400
TZOFFSETTO:-0300
TZNAME:ADT
DTSTART:20250309T060000
END:DAYLIGHT
BEGIN:STANDARD
TZOFFSETFROM:-0300
TZOFFSETTO:-0400
TZNAME:AST
DTSTART:20251102T050000
END:STANDARD
BEGIN:DAYLIGHT
TZOFFSETFROM:-0400
TZOFFSETTO:-0300
TZNAME:ADT
DTSTART:20260308T060000
END:DAYLIGHT
BEGIN:STANDARD
TZOFFSETFROM:-0300
TZOFFSETTO:-0400
TZNAME:AST
DTSTART:20261101T050000
END:STANDARD
END:VTIMEZONE
BEGIN:VEVENT
DTSTART;TZID=America/Halifax:20251025T090000
DTEND;TZID=America/Halifax:20251025T150000
DTSTAMP:20260420T061423
CREATED:20250915T191434Z
LAST-MODIFIED:20251023T132831Z
UID:10001142-1761382800-1761404400@nbccd.ca
SUMMARY:Fall Open House 2025
DESCRIPTION:Fall Open House 2025\nOctober 25\, 2025\, FREE \n \n\n\nTake the next step in pursuing a career in art\, craft\, and design! Join us at Fall Open House and discover how we blend artistic technique and entrepreneurship so you’re ready to forge a life\, living\, and legacy doing what you love most. \nExplore our programs \nSaturday\, October 25\, 2025\n9 am – 3 pm\n\n\n\n8:30 – 9:00 am\nCheck In & Refreshments\n\n\n9:00 – 9:30 am\nWelcome\n\n\n9:30 – 10:45 am\nCampus Tours\n\n\n11:00 – 11:30 am\nStudio Workshops A\n\n\n11:45 – 12:15 pm\nStudio Workshops B\n\n\n12:30 – 1:15 pm\nLunch\n\n\n1:15 – 2:30 pm\nApplications & Portfolio Reviews / Student Services & Support\n\n\n\nApplying for September 2026? Guests attending Open House can have their application fee waived ($50 domestic students; $100 international students) if submitting an application at the event or the week leading up to it. Register to learn more. \n\n\nStudio Workshops\n\n\n\nDrawing (A\, B)\nIn this step-by-step workshop\, students will learn fundamental drawing techniques.\n\n\nIndigo Dyeing (A)\nStep into the mesmerizing world of Shibori\, a traditional Japanese dyeing technique.\n\n\nScreen Printing (A)\nGet your hands messy and play with colour as you screen print your own custom bandana to take home.\n\n\nPamphlet Stitch Book (B)\nMake a simple pamphlet stitch booklet that can be used for anything from grocery lists to a mini sketchbook.\n\n\nPin Hole Cameras & Photograms (A\, B)\nLearn to make and operate a pinhole camera or explore photograms in this signature darkroom experience.\n\n\nMetal Stamping (A\, B)\nUsing common studio hammers and stamps\, participants create a unique copper pendant.\n\n\nPottery Throwdown (A\, B)\nTest your skills (or lack of!) in our NBCCD Pottery Throwdown—a fast-paced ceramics challenge.\n\n\n\n 
URL:https://nbccd.ca/event/fall-open-house-2025/
LOCATION:NBCCD\, 457 Queen Street\, Fredericton\, New Brunswick\, Canada
CATEGORIES:Future Student Event,Open House
ORGANIZER;CN="NBCCD":MAILTO:nbccdrecruiting@gnb.ca
END:VEVENT
BEGIN:VEVENT
DTSTART;TZID=America/Halifax:20241207T133000
DTEND;TZID=America/Halifax:20241207T150000
DTSTAMP:20260420T061423
CREATED:20241101T181522Z
LAST-MODIFIED:20241127T144618Z
UID:10001140-1733578200-1733583600@nbccd.ca
SUMMARY:Virtual Open House 2024
DESCRIPTION:Join in from anywhere in the world on Saturday\, December 7\, 2024 to learn about NBCCD’s craft and design programs\, award-winning instructors\, and our career-focused curriculum. \nRegister Here
URL:https://nbccd.ca/event/virtual-open-house-2024/
LOCATION:Virtual
CATEGORIES:Future Student Event,Open House,Virtual Events
ATTACH;FMTTYPE=image/jpeg:https://nbccd.ca/wp-content/uploads/Branding-Photography-186-3-scaled-e1724434078280.jpg
ORGANIZER;CN="NBCCD":MAILTO:nbccdrecruiting@gnb.ca
END:VEVENT
BEGIN:VEVENT
DTSTART;VALUE=DATE:20241026
DTEND;VALUE=DATE:20241027
DTSTAMP:20260420T061423
CREATED:20240905T130312Z
LAST-MODIFIED:20241004T140006Z
UID:10001126-1729900800-1729987199@nbccd.ca
SUMMARY:Fall Open House 2024
DESCRIPTION:Are you ready to embark on a thrilling adventure in the world of craft and design? Join us for our Fall Open House at NBCCD and unlock your artistic potential! Whether you’re passionate about fashion\, ceramics\, graphic design\, metal arts\, or other creative disciplines\, we have something extraordinary to offer you. \nExplore our programs \nSaturday\, October 26\, 2024\nTime: 9 am – 3 pm\nWhat to expect? \nCampus Tours: Explore our classrooms and discover we don’t use desks and chairs but equipment of the trade. You’ll see design labs\, professional studio spaces\, workbenches\, and more. Get a feel for the inspiring environment where your creativity will flourish. \nMeet the Faculty: Interact with our renowned instructors and learn about their areas of expertise as working professionals in craft and design. They’re here to guide and inspire you on your artistic journey. \nStudent Showcase: Witness the incredible talent of our current students as you walk the halls and view their projects and creations. Be inspired by what’s possible! \nApply for Free: Application fees are waived for students who register and attend the fall open house. Our Mac Lab will be open throughout the day for you to speak with our admissions team\, submit the online application\, and get all your questions answered. \nHands-On Workshops: Dive into the creative process firsthand with engaging workshops led by our faculty. Experiment with different materials and techniques and discover what sparks your creative joy. \nPortfolio Reviews: Bring your portfolio for personalized feedback and guidance from our experts. Whether you’re a beginner or an experienced artist\, we’re here to help you grow. \nRefreshments: Coffee and tea when you arrive then lunch is on us—locally-made with options for vegan\, vegetarian\, and gluten-free diets. \nCan’t make it to our in-person open house?\nRegister for our Virtual Fall Open House on December 7\, 2024! \nRegistration will open soon.
URL:https://nbccd.ca/event/fall-open-house-2024/
LOCATION:NBCCD\, 457 Queen Street\, Fredericton\, New Brunswick\, Canada
CATEGORIES:NBCCD Near You,On Campus,Open House
ORGANIZER;CN="NBCCD":MAILTO:nbccdrecruiting@gnb.ca
END:VEVENT
BEGIN:VEVENT
DTSTART;VALUE=DATE:20240224
DTEND;VALUE=DATE:20240225
DTSTAMP:20260420T061423
CREATED:20240116T185111Z
LAST-MODIFIED:20240129T202517Z
UID:10001125-1708732800-1708819199@nbccd.ca
SUMMARY:Winter Open House 2024
DESCRIPTION:Are you ready to embark on a thrilling adventure in the world of craft and design? Join us for our Winter Open House at NBCCD and unlock your artistic potential! Whether you’re passionate about fashion\, ceramics\, graphic design\, metal arts\, or other creative disciplines\, we have something extraordinary to offer you. Explore all of our programs here. \nSaturday\, February 24\, 2024\n12:30 – 4pm (Atlantic Timezone)\nWhat to expect? \nCampus Tours: Explore our classrooms and discover we don’t use desks and chairs but equipment of the trade. You’ll see design labs\, professional studio spaces\, workbenches\, and more. Get a feel for the inspiring environment where your creativity will flourish. \nMeet the Faculty: Interact with our renowned instructors and learn about their areas of expertise as working professionals in craft and design. They’re here to guide and inspire you on your artistic journey. \nStudent Showcase: Witness the incredible talent of our current students as you walk the halls and view their projects and creations. Be inspired by what’s possible! \nApply for Free: Application fees are waived for students who register and attend the fall open house. Our Mac Lab will be open throughout the day for you to speak with our admissions team\, submit the online application\, and get all your questions answered. \nHands-On Workshops: Dive into the creative process firsthand with engaging workshops led by our faculty. Experiment with different materials and techniques and discover what sparks your creative joy. \nRefreshments: Coffee and tea when you arrive—locally-made with options for vegan\, vegetarian\, and gluten-free diets. \nAnd more to come!
URL:https://nbccd.ca/event/winter-open-house-2024/
LOCATION:NBCCD\, 457 Queen Street\, Fredericton\, New Brunswick\, Canada
CATEGORIES:NBCCD Near You,On Campus
ATTACH;FMTTYPE=image/png:https://nbccd.ca/wp-content/uploads/web_woh24.png
ORGANIZER;CN="NBCCD":MAILTO:nbccdrecruiting@gnb.ca
END:VEVENT
BEGIN:VEVENT
DTSTART;TZID=America/Halifax:20231209T133000
DTEND;TZID=America/Halifax:20231209T150000
DTSTAMP:20260420T061423
CREATED:20230915T191728Z
LAST-MODIFIED:20231206T185608Z
UID:10001123-1702128600-1702134000@nbccd.ca
SUMMARY:Virtual Open House 2023
DESCRIPTION:Join in from anywhere in the world on Saturday\, December 9\, 2023 to learn about NBCCD’s craft and design programs\, award-winning instructors\, and our career-focused curriculum. The priority application deadline for Foundation Visual Arts (FVA) is December 15. \nHear what it’s like to be a student at NBCCD from a current Foundation Visual Arts Online student; learn about the innovative technology and tools available in our studios; and discover how to turn your creative passion into a career. \nExplore our programs here. \nRSVP to save your spot and receive the Zoom invite in your inbox. \nClick here to RSVP.
URL:https://nbccd.ca/event/virtual-open-house-2023/
LOCATION:Virtual
CATEGORIES:NBCCD Near You,Virtual Events
ATTACH;FMTTYPE=image/png:https://nbccd.ca/wp-content/uploads/Untitled-design-33.png
ORGANIZER;CN="NBCCD":MAILTO:nbccdrecruiting@gnb.ca
END:VEVENT
BEGIN:VEVENT
DTSTART;VALUE=DATE:20231028
DTEND;VALUE=DATE:20231029
DTSTAMP:20260420T061423
CREATED:20230825T185113Z
LAST-MODIFIED:20231102T132442Z
UID:10001119-1698451200-1698537599@nbccd.ca
SUMMARY:Fall Open House 2023
DESCRIPTION:Are you ready to embark on a thrilling adventure in the world of craft and design? Join us for our Fall Open House at NBCCD and unlock your artistic potential! Whether you’re passionate about fashion\, ceramics\, graphic design\, metal arts\, or other creative disciplines\, we have something extraordinary to offer you. Explore all of our programs here. \nSaturday\, October 28\, 2023\n9am – 3pm (Atlantic Timezone)\nWhat to expect? \nCampus Tours: Explore our classrooms and discover we don’t use desks and chairs but equipment of the trade. You’ll see design labs\, professional studio spaces\, workbenches\, and more. Get a feel for the inspiring environment where your creativity will flourish. \nMeet the Faculty: Interact with our renowned instructors and learn about their areas of expertise as working professionals in craft and design. They’re here to guide and inspire you on your artistic journey. \nStudent Showcase: Witness the incredible talent of our current students as you walk the halls and view their projects and creations. Be inspired by what’s possible! \nApply for Free: Application fees are waived for students who register and attend the fall open house. Our Mac Lab will be open throughout the day for you to speak with our admissions team\, submit the online application\, and get all your questions answered. \nHands-On Workshops: Dive into the creative process firsthand with engaging workshops led by our faculty. Experiment with different materials and techniques and discover what sparks your creative joy. \nPortfolio Reviews: Bring your portfolio for personalized feedback and guidance from our experts. Whether you’re a beginner or an experienced artist\, we’re here to help you grow. \nRefreshments: Coffee and tea when you arrive then lunch is on us—locally-made with options for vegan\, vegetarian\, and gluten-free diets. \nCan’t make it to our in-person open house?\nRegister for our Virtual Fall Open House on December 9\, 2023! \nLearn more
URL:https://nbccd.ca/event/fall-open-house/
LOCATION:NBCCD\, 457 Queen Street\, Fredericton\, New Brunswick\, Canada
CATEGORIES:NBCCD Near You,On Campus
ATTACH;FMTTYPE=image/png:https://nbccd.ca/wp-content/uploads/1920x1080_event_feature1.png
ORGANIZER;CN="NBCCD":MAILTO:nbccdrecruiting@gnb.ca
END:VEVENT
BEGIN:VEVENT
DTSTART;VALUE=DATE:20231001
DTEND;VALUE=DATE:20231002
DTSTAMP:20260420T061423
CREATED:20230825T184806Z
LAST-MODIFIED:20230915T193900Z
UID:10001118-1696118400-1696204799@nbccd.ca
SUMMARY:2024 Applications Open
DESCRIPTION:Admissions open today for our fall 2024 intake! \nRemember to submit your complete application (application\, fee\, transcript\, portfolio) before our priority deadlines for the best chance of acceptance into our programs. \nDecember 15: Foundation Visual Arts priority deadline \nJanuary 15: Diploma programs priority deadline \n  \nLearn more about the application process: nbccd.ca/howtoapply \nApply now: nbccd.ca/apply \n 
URL:https://nbccd.ca/event/2024-applications-open/
CATEGORIES:NBCCD Near You,Virtual Events
ORGANIZER;CN="NBCCD":MAILTO:nbccdrecruiting@gnb.ca
END:VEVENT
BEGIN:VEVENT
DTSTART;TZID=America/Halifax:20230901T083000
DTEND;TZID=America/Halifax:20230901T130000
DTSTAMP:20260420T061423
CREATED:20230728T171505Z
LAST-MODIFIED:20230728T171505Z
UID:10001106-1693557000-1693573200@nbccd.ca
SUMMARY:College-Wide Orientation
DESCRIPTION:Friday\, September 1\, 8:30am – 1 pm  \n\nJoin us for a fun-filled day of college tours\, games\, a BBQ\, and more. You will get a more detailed schedule leading up to September 1. Scroll down for the current schedule.\nYou do not need to register for this event.\nPlease note: This orientation is offered to all students who will be starting classes for the first time at NBCCD Fredericton. Recent FVA Online and FVA Saint John grads newly attending the Fredericton campus are welcome. Returning students are invited to a breakfast and studio-specific orientation on the first day of classes. Your studio will provide details. Incoming FVA Online students will be invited to an online orientation session. Check your NBCCD email for details.
URL:https://nbccd.ca/event/college-wide-orientation/
LOCATION:NBCCD\, 457 Queen Street\, Fredericton\, New Brunswick\, Canada
CATEGORIES:Community Event
ORGANIZER;CN="NBCCD":MAILTO:nbccdrecruiting@gnb.ca
END:VEVENT
BEGIN:VEVENT
DTSTART;TZID=America/Halifax:20230831T120000
DTEND;TZID=America/Halifax:20230831T170000
DTSTAMP:20260420T061423
CREATED:20230728T171315Z
LAST-MODIFIED:20230728T171315Z
UID:10001105-1693483200-1693501200@nbccd.ca
SUMMARY:International Student Orientation
DESCRIPTION:Thursday\, August 31\, 12pm – 5pm  \n\nThis session is for new international students beginning their studies at NBCCD this September. Meet current international students; discover campus support services; learn how to navigate bank accounts\, cell phones\, health insurance\, and your first Canadian winter; and enjoy a classic Canadian meal with new friends.\nScroll down for the full schedule.\nPlease RSVP for this event: Click here.
URL:https://nbccd.ca/event/international-student-orientation/
LOCATION:NBCCD\, 457 Queen Street\, Fredericton\, New Brunswick\, Canada
ORGANIZER;CN="NBCCD":MAILTO:nbccdrecruiting@gnb.ca
END:VEVENT
BEGIN:VEVENT
DTSTART;TZID=America/Halifax:20230830T130000
DTEND;TZID=America/Halifax:20230830T143000
DTSTAMP:20260420T061423
CREATED:20230724T131334Z
LAST-MODIFIED:20230816T115832Z
UID:10001103-1693400400-1693405800@nbccd.ca
SUMMARY:FVA Online Orientation
DESCRIPTION:Wednesday\, August 30\, 1pm – 2:30pm \n\nFor FVA Online students only. This session will introduce you to NBCCD faculty\, staff\, and students. A chance to test your technical systems\, you’ll be onboarded into the Google Classroom\, learn about online supports offered by our College Counsellor and Learning Strategist\, and spend time getting to know your fellow online classmates!\nInstructions for attendance will be provided directly to Online Students via email.\nStudents enrolled in the online program who are able to attend the in-person orientations (see below) are encouraged to attend both.
URL:https://nbccd.ca/event/fva-online-orientation/
LOCATION:Virtual
ORGANIZER;CN="NBCCD":MAILTO:nbccdrecruiting@gnb.ca
END:VEVENT
BEGIN:VEVENT
DTSTART;TZID=America/Halifax:20230609T140000
DTEND;TZID=America/Halifax:20230609T153000
DTSTAMP:20260420T061423
CREATED:20230602T163824Z
LAST-MODIFIED:20230602T165145Z
UID:10001102-1686319200-1686324600@nbccd.ca
SUMMARY:2023 Convocation
DESCRIPTION:Annual graduation ceremony for certificate and diploma recipients from the New Brunswick College of Craft and Design (NBCCD). \nDetails can be found here.
URL:https://nbccd.ca/event/2023-convocation/
ORGANIZER;CN="NBCCD":MAILTO:nbccdrecruiting@gnb.ca
END:VEVENT
BEGIN:VEVENT
DTSTART;VALUE=DATE:20230331
DTEND;VALUE=DATE:20230401
DTSTAMP:20260420T061423
CREATED:20230209T192252Z
LAST-MODIFIED:20230209T192252Z
UID:10001100-1680220800-1680307199@nbccd.ca
SUMMARY:Application Deadline: Advanced Studio Practice (2023)
DESCRIPTION:Applications for NBCCD’s Advanced Studio Practice (ASP) one-year certificate program are due by March 31\, 2023.\nProgram start date: September 2023\nAdmission Requirements \nPortfolio Requirements \nApply Now
URL:https://nbccd.ca/event/application-deadline-advanced-studio-practice-2023/
LOCATION:NBCCD\, 457 Queen Street\, Fredericton\, New Brunswick\, Canada
ORGANIZER;CN="NBCCD":MAILTO:nbccdrecruiting@gnb.ca
END:VEVENT
BEGIN:VEVENT
DTSTART;TZID=America/Halifax:20230306T080000
DTEND;TZID=America/Halifax:20230310T170000
DTSTAMP:20260420T061423
CREATED:20230209T191839Z
LAST-MODIFIED:20230209T191839Z
UID:10001099-1678089600-1678467600@nbccd.ca
SUMMARY:March Break 2023 (No Classes)
DESCRIPTION:Wishing our students a happy March Break! Rest\, relax\, have fun\, be safe.
URL:https://nbccd.ca/event/march-break-2023-no-classes/
LOCATION:NBCCD\, 457 Queen Street\, Fredericton\, New Brunswick\, Canada
ORGANIZER;CN="NBCCD":MAILTO:nbccdrecruiting@gnb.ca
END:VEVENT
BEGIN:VEVENT
DTSTART;TZID=America/Halifax:20230225T123000
DTEND;TZID=America/Halifax:20230225T163000
DTSTAMP:20260420T061423
CREATED:20230125T194630Z
LAST-MODIFIED:20230225T012320Z
UID:10001097-1677328200-1677342600@nbccd.ca
SUMMARY:NBCCD Winter Open House 2023
DESCRIPTION:Explore your creative future at the NBCCD Winter Open House! \nSee and experience our community first hand! Hear from current students\, craft & design instructors\, alumni\, and staff and participate in demo classes\, apply on-the-spot for FREE\, tour campus and our gallery\, and attend a portfolio workshop. \nWe can’t wait to welcome you to NBCCD—where sustainable\, creative careers are forged! \nClick RSVP below to register! Pre-registration required. \nMasks are required in all NBCCD spaces. Find NBCCD COVID-19 Guidelines here. \n  \n\nSaturday\, February 25\, 2023 (Snow Date: Sunday\, February 26)\n\n\n\n\n12:30 PM\nReception (coffee\, tea\, muffins) & Sgraffito Fun!\n\n\n1:00 PM\nWelcome Remarks\n\n\n1:30 PM\nCampus and Gallery Tours\n\n\n3:00 PM\nConcurrent Sessions A:  Choose between studio or portfolio workshops\n\n\n3:30 PM\nConcurrent Sessions B:  Choose between studio or portfolio workshops\n\n\n*12:30 – 4:30 PM\n*Chat with our Admissions Team and fill out your free application! \nApplication is waived for open house attendees.\n\n\n\n\nABOUT THE NEW BRUNSWICK COLLEGE OF CRAFT AND DESIGN  \nLocated in the heart of downtown Fredericton\, the New Brunswick College of Craft and Design (NBCCD) empowers its students to achieve sustainable\, creative careers in fine craft and design.  \nWe offer eight diploma programs\, each focused on a specific field of fine craft and design; and two certificate programs—one program will expose you the foundational principles of visual art and design\, the other is focused on creative entrepreneurship.  \nWhether your creative goal is to start your own arts studio practice\, get a job as a creative professional\, or return to the classroom one day as an arts instructor in one of our programs\, we give you the tools and opportunities to get there!  \nStart your journey to your arts career with our Foundation Visual Arts program in Fredericton\, New Brunswick; Saint John\, New Brunswick; or online.  \nExplore our certificate and diploma programs today\nFoundation Visual Arts (Fredericton\, Saint John\, Online) – 3D Digital Design – Ceramics – Fashion Design – Jewellery/Metal Arts – Graphic Design – Photography/Videography – Textile Design – Wabanaki Visual Arts – Advanced Studio Practice
URL:https://nbccd.ca/event/nbccd-winter-open-house-23/
LOCATION:NBCCD\, 457 Queen Street\, Fredericton\, New Brunswick\, Canada
ATTACH;FMTTYPE=image/svg+xml:https://nbccd.ca/wp-content/uploads/web_news_open-house-copy.svg
ORGANIZER;CN="NBCCD":MAILTO:nbccdrecruiting@gnb.ca
END:VEVENT
BEGIN:VEVENT
DTSTART;VALUE=DATE:20230220
DTEND;VALUE=DATE:20230221
DTSTAMP:20260420T061423
CREATED:20230209T191522Z
LAST-MODIFIED:20230209T191644Z
UID:10001098-1676851200-1676937599@nbccd.ca
SUMMARY:Family Day (College Closed)
DESCRIPTION:
URL:https://nbccd.ca/event/family-day-college-closed-2/
LOCATION:NBCCD\, 457 Queen Street\, Fredericton\, New Brunswick\, Canada
ORGANIZER;CN="NBCCD":MAILTO:nbccdrecruiting@gnb.ca
END:VEVENT
BEGIN:VEVENT
DTSTART;VALUE=DATE:20230115
DTEND;VALUE=DATE:20230116
DTSTAMP:20260420T061423
CREATED:20221114T193841Z
LAST-MODIFIED:20221117T150333Z
UID:10001096-1673740800-1673827199@nbccd.ca
SUMMARY:Application (Priority) Deadline - Diploma Programs
DESCRIPTION:
URL:https://nbccd.ca/event/nbccd-diploma-programs-deadline/
LOCATION:Virtual
CATEGORIES:Academic Dates
ORGANIZER;CN="NBCCD":MAILTO:nbccdrecruiting@gnb.ca
END:VEVENT
BEGIN:VEVENT
DTSTART;VALUE=DATE:20221231
DTEND;VALUE=DATE:20230101
DTSTAMP:20260420T061423
CREATED:20221114T193800Z
LAST-MODIFIED:20221117T150250Z
UID:10001095-1672444800-1672531199@nbccd.ca
SUMMARY:Application (Priority) Deadline - Foundation Visual Arts
DESCRIPTION:
URL:https://nbccd.ca/event/foundation-visual-arts-applications-priority-deadline/
LOCATION:Virtual
CATEGORIES:Academic Dates
ORGANIZER;CN="NBCCD":MAILTO:nbccdrecruiting@gnb.ca
END:VEVENT
BEGIN:VEVENT
DTSTART;TZID=America/Halifax:20221203T130000
DTEND;TZID=America/Halifax:20221203T143000
DTSTAMP:20260420T061423
CREATED:20221114T170354Z
LAST-MODIFIED:20221117T150635Z
UID:10001094-1670072400-1670077800@nbccd.ca
SUMMARY:Virtual Open House
DESCRIPTION:Experience the New Brunswick College of Craft & Design (NBCCD) from the comfort of your own home. Our virtual open house will dive into the courses and outcomes of NBCCD’s creative programs and entrepreneurially curriculum. \nHear from alumni\, current students\, faculty\, and staff\, as you type in questions for us to answer throughout the event. We’ll show you what it’s like to be a student at NBCCD. \nYour camera and microphone will be disabled for this event so you can enjoy our virtual tour clearly. \nSee you online\, December 3! \nRegister now.
URL:https://nbccd.ca/event/virtual-open-house/
LOCATION:Virtual
ORGANIZER;CN="NBCCD":MAILTO:nbccdrecruiting@gnb.ca
END:VEVENT
BEGIN:VEVENT
DTSTART;TZID=America/Halifax:20221102T193000
DTEND;TZID=America/Halifax:20221102T210000
DTSTAMP:20260420T061423
CREATED:20220914T114225Z
LAST-MODIFIED:20221109T121145Z
UID:10001090-1667417400-1667422800@nbccd.ca
SUMMARY:Meet 'n' Greet - Fredericton
DESCRIPTION:Interested students and parents are invited to join us to connect with NBCCD instructors\, current students\, and apply on the spot\, as well as learn about student life and career outcomes.
URL:https://nbccd.ca/event/meet-n-greet-fredericton/
CATEGORIES:NBCCD Near You
ORGANIZER;CN="NBCCD":MAILTO:nbccdrecruiting@gnb.ca
END:VEVENT
BEGIN:VEVENT
DTSTART;TZID=America/Halifax:20221022T093000
DTEND;TZID=America/Halifax:20221022T150000
DTSTAMP:20260420T061423
CREATED:20220913T130741Z
LAST-MODIFIED:20221018T201230Z
UID:10001083-1666431000-1666450800@nbccd.ca
SUMMARY:Open House
DESCRIPTION:See and experience our community first hand! Hear from current students\, alumni\, and staff about the many opportunities waiting for you at NBCCD and participate in demo classes\, apply on-the-spot for FREE\, tour campus and our gallery\, and attend a portfolio workshop. We can’t wait to welcome you to NBCCD—where sustainable\, creative careers are forged! Click “RSVP” below to register! Pre-registration required. \nMasks are required in all NBCCD spaces. \nOPEN HOUSE SCHEDULE\n\n\n\n9:30 AM – 10:00 AM\nRegistration & Reception (coffee/tea/snacks) in NBCCD Courtyard (457 Queen Street\, Fredericton\, NB)\n\n\n10:00 AM – 11:00 AM\nWelcome & Current Student and Alumni Q&A\n\n\n11:00 AM – 12:30 PM\nCampus Tours (Visit our craft and design studios and the George Fry Gallery)\n\n\n12:30 PM – 1:00 PM\nLunch (Vegan/vegetarian/gluten free options are available)\n\n\n1:00 PM – 1:30 PM\nConcurrent Sessions 1:  Create and experience one of our studios or attend a portfolio workshop.\n\n\n1:45 PM – 2:15 PM\nConcurrent Sessions 2:  Create and experience one of our studios or attend a portfolio workshop.\n\n\n2:15 PM – 3:00 PM\nApply to NBCCD (application fees are waived for open house attendees) with help from our team!\n\n\n\n  \n 
URL:https://nbccd.ca/event/open-house-4/
LOCATION:NBCCD – Fredericton campus\, 457 Queen St.\, Fredericton\, NB\, E3B 1B7\, Canada
CATEGORIES:On Campus
ORGANIZER;CN="NBCCD":MAILTO:nbccdrecruiting@gnb.ca
END:VEVENT
BEGIN:VEVENT
DTSTART;TZID=America/Halifax:20221006T190000
DTEND;TZID=America/Halifax:20221006T200000
DTSTAMP:20260420T061423
CREATED:20220913T140836Z
LAST-MODIFIED:20220923T114651Z
UID:10001089-1665082800-1665086400@nbccd.ca
SUMMARY:Crafting Your Application Webinar
DESCRIPTION:Learn how you can make the most out of your application! Join us live to learn all there is to know about how to apply for studies at NBCCD. Discover what you need to apply\, from documents to portfolio. Students will also receive important details about the admissions process and deadlines. Don’t miss out on this amazing opportunity!  \nRegister Now!
URL:https://nbccd.ca/event/crafting-your-application-webinar/
LOCATION:Virtual
CATEGORIES:Virtual Events
ORGANIZER;CN="NBCCD":MAILTO:nbccdrecruiting@gnb.ca
END:VEVENT
END:VCALENDAR